BEGIN:VCALENDAR
VERSION:2.0
PRODID:-//Regic - ECPv6.15.20//NONSGML v1.0//EN
CALSCALE:GREGORIAN
METHOD:PUBLISH
X-ORIGINAL-URL:https://regic.org
X-WR-CALDESC:Eventos para Regic
REFRESH-INTERVAL;VALUE=DURATION:PT1H
X-Robots-Tag:noindex
X-PUBLISHED-TTL:PT1H
BEGIN:VTIMEZONE
TZID:UTC
BEGIN:STANDARD
TZOFFSETFROM:+0000
TZOFFSETTO:+0000
TZNAME:UTC
DTSTART:20200101T000000
END:STANDARD
END:VTIMEZONE
BEGIN:VEVENT
DTSTART;VALUE=DATE:20210616
DTEND;VALUE=DATE:20210717
DTSTAMP:20260425T050125
CREATED:20210524T115909Z
LAST-MODIFIED:20210524T115909Z
UID:3648-1623801600-1626479999@regic.org
SUMMARY:Redtransfer Formación: "Valorización de resultados de I+D y tecnologías"
DESCRIPTION:Redtransfer (Asociación de profesionales de transferencia\, innovación y gestión de la investigación) organiza el curso online “Valorización de resultados de I+D y tecnologías” que tendrá lugar del 16 de junio al 16 de julio de 2021. \nEl objetivo es abordar las etapas y actividades ligadas al proceso de valorización de una tecnología o resultado de I+D generado en un centro público de investigación\, facilitando al técnico de transferencia las herramientas adecuadas para el diseño de estrategias proactivas que permitan o faciliten la maduración y llegada al mercado de las mismas. \nEl curso  de nivel intermedio\, está dirigido especialmente a profesionales de la gestión de la I+D y la transferencia de conocimiento de universidades públicas y privadas\, centros de investigación sanitaria\, centros tecnológicos\, empresas y otros organismos de I+D. \nPara el correcto aprovechamiento del curso se recomienda una experiencia mínima de 1 año en los temas a abordar. \nCombina combina los siguientes recursos didácticos de formación online:\n-Textos formativos para trabajo individual (descargables)\n-Test de progreso auto-evaluable para la superación de cada uno de los módulos.\n-Casos prácticos\n-Sesiones en streaming para el refuerzo de los contenidos clave\, asistencia tutorial y la resolución de casos prácticos (sus grabaciones estarán accesibles para su visionado durante el curso).\n-Foro para debate entre los participantes \nTendrá una duración total de 21 horas lectivas\, 13 de formación asíncrona (trabajo individual y video introductorio) y 8 en streaming. \nPlazas limitadas (50). Se asignarán por orden de inscripción. \nLos alumnos que superen el test de progreso de todos los módulos obtendrán un certificado de aprovechamiento. \nLa información detallada del curso\, así como la opción de inscripción\, se encuentran en este enlace. \nFecha límite de inscripciones: 11 de junio \nONLINE – Campus Virtual Redtransfer
URL:https://regic.org/evento/redtransfer-formacion-valorizacion-de-resultados-de-id-y-tecnologias/
CATEGORIES:Agenda
ATTACH;FMTTYPE=image/jpeg:https://regic.org/wp-content/uploads/2021/02/RedTransfer.jpg
END:VEVENT
END:VCALENDAR